BEGIN:VCALENDAR
VERSION:2.0
PRODID:-//Bergen County NAACP - ECPv6.15.20//NONSGML v1.0//EN
CALSCALE:GREGORIAN
METHOD:PUBLISH
X-ORIGINAL-URL:https://bergennaacp.org
X-WR-CALDESC:Events for Bergen County NAACP
REFRESH-INTERVAL;VALUE=DURATION:PT1H
X-Robots-Tag:noindex
X-PUBLISHED-TTL:PT1H
BEGIN:VTIMEZONE
TZID:UTC
BEGIN:STANDARD
TZOFFSETFROM:+0000
TZOFFSETTO:+0000
TZNAME:UTC
DTSTART:20210101T000000
END:STANDARD
END:VTIMEZONE
BEGIN:VTIMEZONE
TZID:America/New_York
BEGIN:DAYLIGHT
TZOFFSETFROM:-0500
TZOFFSETTO:-0400
TZNAME:EDT
DTSTART:20240310T070000
END:DAYLIGHT
BEGIN:STANDARD
TZOFFSETFROM:-0400
TZOFFSETTO:-0500
TZNAME:EST
DTSTART:20241103T060000
END:STANDARD
BEGIN:DAYLIGHT
TZOFFSETFROM:-0500
TZOFFSETTO:-0400
TZNAME:EDT
DTSTART:20250309T070000
END:DAYLIGHT
BEGIN:STANDARD
TZOFFSETFROM:-0400
TZOFFSETTO:-0500
TZNAME:EST
DTSTART:20251102T060000
END:STANDARD
BEGIN:DAYLIGHT
TZOFFSETFROM:-0500
TZOFFSETTO:-0400
TZNAME:EDT
DTSTART:20260308T070000
END:DAYLIGHT
BEGIN:STANDARD
TZOFFSETFROM:-0400
TZOFFSETTO:-0500
TZNAME:EST
DTSTART:20261101T060000
END:STANDARD
END:VTIMEZONE
BEGIN:VEVENT
DTSTART;TZID=UTC:20251101T180000
DTEND;TZID=UTC:20251101T220000
DTSTAMP:20260423T172532
CREATED:20250806T010251Z
LAST-MODIFIED:20250919T234615Z
UID:10000032-1762020000-1762034400@bergennaacp.org
SUMMARY:Freedom Fund Dinner & Fundraising Gala
DESCRIPTION:The NAACP Bergen County Branch proudly invites you to our Freedom Fund Dinner & Fundraising Gala  \n Saturday\, November 1\, 2025\n Il Villaggio\, Carlstadt\, NJ\n 6:00 PM – 10:00 PM \nJoin us for an unforgettable evening as we honor the past\, empower the present\, and fund the future. \nhttps://www.zeffy.com/en-US/ticketing/bergen-county-naacp-freedom-fund \n#BergenNAACP #FreedomFundGala #BlackExcellence #NAACP #SaveTheDate #EmpowerTheCommunity #FundTheFuture
URL:https://bergennaacp.org/event/freedom-fund-dinner-fundraising-gala/
ATTACH;FMTTYPE=image/jpeg:https://bergennaacp.org/wp-content/uploads/2025/09/9D051CF7-394B-4F06-A7C7-A80E83300404.jpeg
END:VEVENT
BEGIN:VEVENT
DTSTART;TZID=UTC:20250809T130000
DTEND;TZID=UTC:20250809T170000
DTSTAMP:20260423T172532
CREATED:20250801T200708Z
LAST-MODIFIED:20250801T200708Z
UID:10000031-1754744400-1754758800@bergennaacp.org
SUMMARY:🗳️ Still Here. Still Voting. ✊🏾
DESCRIPTION:The Bergen County NAACP is proud to partner with the Bergen County Black Caucus for VOTERVILLE: The People’s Vote Festival — commemorating 60 years of voting rights! \n Votee Park\, Teaneck\, NJ  August 9\, 2025 |  1:00 PM  Free Entry |  Premium Pass: $20 (includes food & drink) \nJoin us for a powerful day of speakers\, games\, food trucks\, music\, vendors\, giveaways\, and more as we celebrate our past and activate our future.  \nLet’s make this a community celebration to remember. #Voterville #StillHereStillVoting #BergenNAACP #BergenBlackCaucus #VotingRights60 #PowerInThePeople #VoterEngagement
URL:https://bergennaacp.org/event/%f0%9f%97%b3%ef%b8%8f-still-here-still-voting-%e2%9c%8a%f0%9f%8f%be/
ATTACH;FMTTYPE=image/jpeg:https://bergennaacp.org/wp-content/uploads/2025/08/3371B54B-B137-43AA-9EA0-06CCB30DDACD.jpeg
END:VEVENT
BEGIN:VEVENT
DTSTART;TZID=UTC:20250508T193000
DTEND;TZID=UTC:20250508T213000
DTSTAMP:20260423T172532
CREATED:20250420T163708Z
LAST-MODIFIED:20250420T163708Z
UID:10000026-1746732600-1746739800@bergennaacp.org
SUMMARY:District 37 Assembly Candidate Forum
DESCRIPTION:District 37 Assembly Candidate Forum\n**May 8 | 7:30 – 9:30 PM**\nDickinson Hall\, Fairleigh Dickinson University\nPresented by the Bergen County NAACP \nEmpowering Voters. Elevating Voices. \nJoin us for an evening of civic engagement as District 37 Assembly candidates share their platforms and answer your questions. Learn where they stand—and how they plan to serve YOU. \nBecause an informed voter is an empowered voter—don’t miss it! \n#District37 #CandidateForum #NAACP #BergenCounty #FDU #EmpoweredVoters #ElevateVoices #YourVoteYourVoice \n-Register HERE-\nhttps://www.zeffy.com/ticketing/district-37-assembly-candidate-forum
URL:https://bergennaacp.org/event/district-37-assembly-candidate-forum/
LOCATION:Dickinson Hall – Farleigh Dickinson University\, 140 University Plaza Dr\, Hackensack\, New Jersey\, 07601
ATTACH;FMTTYPE=image/jpeg:https://bergennaacp.org/wp-content/uploads/2025/04/2025-Candidate-Forum-D37.jpg
END:VEVENT
BEGIN:VEVENT
DTSTART;TZID=America/New_York:20250421T190000
DTEND;TZID=America/New_York:20250421T220000
DTSTAMP:20260423T172532
CREATED:20250413T022822Z
LAST-MODIFIED:20250413T023216Z
UID:10000023-1745262000-1745272800@bergennaacp.org
SUMMARY:THE STATE OF THE BLACK COMMUNITY
DESCRIPTION:The Bergen County NAACP Presents \n**THE STATE OF THE BLACK COMMUNITY** \nEnglewood | Teaneck | Hackensack \n *One Voice. One County. One Union.*  \nHackensack\, Teaneck\, and Englewood are home to the largest Black populations in Bergen County. Join us for a powerful community conversation with local council members about the challenges our communities face—and the actions we can take together. \n**Date:** Monday\, April 21st \n**Time:** 7:00 PM \n**Location:** \nDizzy Gillespie Auditorium \nDwight Morrow High School \n274 Knickerbocker Rd \nEnglewood\, NJ \n**Registration is preferred but not required.**  https://bit.ly/4jpTrmj \nLet’s come together to uplift\, inform\, and unite. \n  \n\n  \n#StateOfTheBlackCommunity #BergenNAACP #CommunityUnity #Englewood #Teaneck #Hackensack \n  \n\n 
URL:https://bergennaacp.org/event/the-state-of-the-black-community/
LOCATION:Dwight Morrow High School – Dizzy Gillespie Auditorium\, 274 Knickerbocker Rd  \, Englewood\, NJ\, 07631\, United States
ATTACH;FMTTYPE=image/jpeg:https://bergennaacp.org/wp-content/uploads/2025/04/IMG_4091.jpg
END:VEVENT
BEGIN:VEVENT
DTSTART;TZID=UTC:20250208T124500
DTEND;TZID=UTC:20250208T144500
DTSTAMP:20260423T172532
CREATED:20250202T010323Z
LAST-MODIFIED:20250202T010323Z
UID:10000021-1739018700-1739025900@bergennaacp.org
SUMMARY:Movie Screening & Discussion on Brain Health!
DESCRIPTION: **Join Us for a Movie Screening & Discussion on Brain Health!**  \nWe’re hosting a special movie matinee followed by an engaging conversation about brain health! Come watch an inspiring film that explores the journey of a family and the early stages of dementia\, and stay for a thought-provoking discussion on how we can nurture and protect our brain health. \n **Date**: February 8\, 2025 \n **Time**: 12:45pm \n **Location**: Teaneck Cinemas \nThis event is FREE but you must register to reserve your seat! RSVP below. \nThis event is sponsored by the **Cognitive and Research Center of N.J.**\, a premier clinical trial site dedicated to providing diagnosis and treatment through clinical research opportunities for Alzheimer’s disease and related disorders. Recently opened an office in Ridgewood! \nAt the Cognitive and Research Center of N.J.\, the mission is to help you maintain optimal brain health through **no-cost memory screenings** and provide access to potential new treatments not available in other healthcare settings. All of the services are **free of charge**\, and **no insurance** is ever needed. \nWe are also **proudly co-sponsored** by the **Bergen County NAACP**\, **BCAC Delta Sigma Theta**\, and **Alpha Kappa Alpha- IEO**—organizations dedicated to supporting our community and promoting mental wellness. \nWhether you’re a film lover or passionate about mental wellness\, or have a loved one affected by memory loss\, this event is for you! Let’s learn together about how to keep our minds sharp and resilient. \n **RSVP**: https://bit.ly/MovieandBrainHealth or Email- Ridgewood@thecrcnj.com
URL:https://bergennaacp.org/event/movie-screening-discussion-on-brain-health/
LOCATION:Teaneck Cinemas\, 503 Cedar Ln\, Teaneck\, 07666\, United States
ATTACH;FMTTYPE=image/jpeg:https://bergennaacp.org/wp-content/uploads/2025/02/IMG_2656.jpeg
END:VEVENT
BEGIN:VEVENT
DTSTART;TZID=UTC:20241109T113000
DTEND;TZID=UTC:20241109T150000
DTSTAMP:20260423T172532
CREATED:20240729T151642Z
LAST-MODIFIED:20240911T061400Z
UID:10000020-1731151800-1731164400@bergennaacp.org
SUMMARY:Freedom Fund Luncheon
DESCRIPTION:For sponsorship\, please contact BergenNAACP@gmail.com. Ticket prices are $145 until October 15th; and $175 after that. Click here to purchase your tickets!
URL:https://bergennaacp.org/event/freedom-fund-luncheon-save-the-date/
LOCATION:Biagio’s Ristorante\, 299 Paramus Road\, Paramus\, NJ\, 07652\, United States
ATTACH;FMTTYPE=image/png:https://bergennaacp.org/wp-content/uploads/2024/07/freedomluncheon2024.png
END:VEVENT
BEGIN:VEVENT
DTSTART;TZID=UTC:20240822T163000
DTEND;TZID=UTC:20240822T193000
DTSTAMP:20260423T172532
CREATED:20240729T151320Z
LAST-MODIFIED:20240729T151320Z
UID:10000019-1724344200-1724355000@bergennaacp.org
SUMMARY:4th Annual Bash & Bookbag Giveaway
DESCRIPTION:We’re giving away free backpacks and school supplies. \nThere will be food\, music\, and fun!
URL:https://bergennaacp.org/event/4th-annual-bash-bookbag-giveaway/
LOCATION:Bryant Elementary School\, 1 East Tryon Avenue\, Teaneck\, NJ\, 07666\, United States
ATTACH;FMTTYPE=image/png:https://bergennaacp.org/wp-content/uploads/2024/07/backpackgiveaway.png
END:VEVENT
BEGIN:VEVENT
DTSTART;TZID=UTC:20240619T183000
DTEND;TZID=UTC:20240619T203000
DTSTAMP:20260423T172532
CREATED:20240602T132316Z
LAST-MODIFIED:20240602T132316Z
UID:10000018-1718821800-1718829000@bergennaacp.org
SUMMARY:Juneteenth Freedom - One Night Revival
DESCRIPTION:
URL:https://bergennaacp.org/event/juneteenth-freedom-one-night-revival/
LOCATION:Facebook Live and Zoom\, Zoom Meeting ID: 900-174-016
ATTACH;FMTTYPE=image/jpeg:https://bergennaacp.org/wp-content/uploads/2024/06/juneteenth24.jpg
END:VEVENT
BEGIN:VEVENT
DTSTART;TZID=UTC:20240615T120000
DTEND;TZID=UTC:20240615T170000
DTSTAMP:20260423T172532
CREATED:20240419T181028Z
LAST-MODIFIED:20240419T181028Z
UID:10000017-1718452800-1718470800@bergennaacp.org
SUMMARY:Juneteenth Celebration - 2024
DESCRIPTION:
URL:https://bergennaacp.org/event/juneteenth-celebration-2024/
LOCATION:Overpeck Park – Amphitheater\, 40 Fort Lee Rd\, Leonia\, NJ\, 07605\, United States
ATTACH;FMTTYPE=image/jpeg:https://bergennaacp.org/wp-content/uploads/2024/04/Juneteenth-2004.jpg
END:VEVENT
BEGIN:VEVENT
DTSTART;TZID=UTC:20240427T090000
DTEND;TZID=UTC:20240427T113000
DTSTAMP:20260423T172532
CREATED:20240304T021605Z
LAST-MODIFIED:20240304T021605Z
UID:10000016-1714208400-1714217400@bergennaacp.org
SUMMARY:Prayer Breakfast Awards Program
DESCRIPTION:
URL:https://bergennaacp.org/event/prayer-breakfast-awards-program/
LOCATION:The Logan Family Life Center – Mount Olive Baptist Church\, 260 Central Avenue\, Hackensack\, NJ\, 07601\, United States
ATTACH;FMTTYPE=image/jpeg:https://bergennaacp.org/wp-content/uploads/2024/03/Prayer-Breakfast-2024-Flyer.jpeg
END:VEVENT
BEGIN:VEVENT
DTSTART;TZID=UTC:20231201T080000
DTEND;TZID=UTC:20231217T210000
DTSTAMP:20260423T172532
CREATED:20231210T230621Z
LAST-MODIFIED:20231210T231247Z
UID:10000015-1701417600-1702846800@bergennaacp.org
SUMMARY:Angel Tree Christmas Gift Drive
DESCRIPTION:We invite you to support our Angel Tree Christmas Drive this year. Your contribution will be greatly appreciated! By clicking on the link below\, you can make a donation that will be shipped directly to us. Our team of elves will take care of the wrapping\, so you don’t have to worry about a thing!\n\n \nHere is the link:\n\nhttps://www.amazon.com/registries/gl/guest-view/31O10UVYROJC9\n\n \nThis year\, we have chosen The Holley Childcare & Development Center as the beneficiary of our Angel Tree program. The center in Hackensack\, NJ\, provides care for 65 children aged 5 to 12. In addition to working with the Holley Center\, we plan to create blessing bags for homeless individuals in our area. Our goal is to bring comfort and happiness to those in need.\n\n \nThank you for your generosity\, and we wish you a wonderful holiday season!\n\n \nWith love\,\nAmy & Courtnay Claus
URL:https://bergennaacp.org/event/2060/
ATTACH;FMTTYPE=image/jpeg:https://bergennaacp.org/wp-content/uploads/2023/12/Bergen-NAACP-2023-Angel-Tree.jpeg
END:VEVENT
BEGIN:VEVENT
DTSTART;TZID=UTC:20230617T120000
DTEND;TZID=UTC:20230617T170000
DTSTAMP:20260423T172532
CREATED:20230428T012535Z
LAST-MODIFIED:20230524T001252Z
UID:10000013-1687003200-1687021200@bergennaacp.org
SUMMARY:Juneteenth Celebration - 2023
DESCRIPTION:
URL:https://bergennaacp.org/event/juneteenth-celebration/
LOCATION:Overpeck Park – Amphitheater\, 40 Fort Lee Rd\, Leonia\, NJ\, 07605\, United States
ATTACH;FMTTYPE=image/jpeg:https://bergennaacp.org/wp-content/uploads/2023/04/Bergen-NAACP-Juneteeth-Celebration-2023.jpeg
END:VEVENT
BEGIN:VEVENT
DTSTART;TZID=UTC:20230429T130000
DTEND;TZID=UTC:20230429T160000
DTSTAMP:20260423T172532
CREATED:20230331T173431Z
LAST-MODIFIED:20230331T174426Z
UID:10000009-1682773200-1682784000@bergennaacp.org
SUMMARY:34th Annual ACT-SO New Jersey Awards Ceremony
DESCRIPTION:Donation: $10 \nDonate Here: https://www.naacpnj.org/event-details/act-so-award-ceremony
URL:https://bergennaacp.org/event/34th-annual-act-so-new-jersey-awards-ceremony/
LOCATION:First Baptist of Lincoln Gardens\, 771 Somerset Street\, Somerset\, NJ\, 08873\, United States
ATTACH;FMTTYPE=image/jpeg:https://bergennaacp.org/wp-content/uploads/2023/03/2023-ACT-SO-AWARDS-CEREMONY-FLYER.jpg
END:VEVENT
BEGIN:VEVENT
DTSTART;TZID=UTC:20230211T100000
DTEND;TZID=UTC:20230211T140000
DTSTAMP:20260423T172532
CREATED:20230119T033642Z
LAST-MODIFIED:20230119T034057Z
UID:10000007-1676109600-1676124000@bergennaacp.org
SUMMARY:Black History Month Health Fair
DESCRIPTION:
URL:https://bergennaacp.org/event/health-fair/
LOCATION:Grieco Elementary School\, 50 Durie Avenue\, Englewood\, 07631\, United States
ATTACH;FMTTYPE=image/jpeg:https://bergennaacp.org/wp-content/uploads/2023/01/Black-History-Month-Health-Fair.jpeg
END:VEVENT
BEGIN:VEVENT
DTSTART;TZID=UTC:20221125T000000
DTEND;TZID=UTC:20221217T235900
DTSTAMP:20260423T172532
CREATED:20221109T053743Z
LAST-MODIFIED:20221127T181529Z
UID:10000003-1669334400-1671321540@bergennaacp.org
SUMMARY:Christmas Gift Drive
DESCRIPTION:
URL:https://bergennaacp.org/event/christmas-gift-drive/
ATTACH;FMTTYPE=image/jpeg:https://bergennaacp.org/wp-content/uploads/2022/11/Christmas-Gift-Drive-Flyer.jpeg
END:VEVENT
BEGIN:VEVENT
DTSTART;TZID=UTC:20221121T163000
DTEND;TZID=UTC:20221121T183000
DTSTAMP:20260423T172532
CREATED:20221114T155243Z
LAST-MODIFIED:20221114T155243Z
UID:10000006-1669048200-1669055400@bergennaacp.org
SUMMARY:Thanksgiving Turkey Giveaway
DESCRIPTION:
URL:https://bergennaacp.org/event/thanksgiving-turkey-giveaway/
LOCATION:Bryant Elementary School\, 1 East Tryon Avenue\, Teaneck\, NJ\, 07666\, United States
ATTACH;FMTTYPE=image/jpeg:https://bergennaacp.org/wp-content/uploads/2022/11/Turkey-Giveaway-Flyer.jpeg
END:VEVENT
BEGIN:VEVENT
DTSTART;TZID=UTC:20221117T190000
DTEND;TZID=UTC:20221117T200000
DTSTAMP:20260423T172532
CREATED:20221111T235753Z
LAST-MODIFIED:20221111T235753Z
UID:10000005-1668711600-1668715200@bergennaacp.org
SUMMARY:General Body Meeting
DESCRIPTION:
URL:https://bergennaacp.org/event/general-body-meeting/
ATTACH;FMTTYPE=image/jpeg:https://bergennaacp.org/wp-content/uploads/2022/11/General-Body-Meeting_11172022.jpeg
END:VEVENT
BEGIN:VEVENT
DTSTART;TZID=UTC:20221113T100000
DTEND;TZID=UTC:20221113T120000
DTSTAMP:20260423T172532
CREATED:20221109T054612Z
LAST-MODIFIED:20221111T004502Z
UID:10000004-1668333600-1668340800@bergennaacp.org
SUMMARY:Honor Our Veterans
DESCRIPTION:
URL:https://bergennaacp.org/event/honor-our-veterans/
LOCATION:Shiloh AME Zion Church\, 128 William Street\, Englewood\, NJ\, 07631\, United States
ATTACH;FMTTYPE=image/jpeg:https://bergennaacp.org/wp-content/uploads/2022/11/Veterans-Days-Event.jpeg
END:VEVENT
BEGIN:VEVENT
DTSTART;TZID=UTC:20221112T110000
DTEND;TZID=UTC:20221112T150000
DTSTAMP:20260423T172532
CREATED:20221011T193036Z
LAST-MODIFIED:20221111T004405Z
UID:10000002-1668250800-1668265200@bergennaacp.org
SUMMARY:Bergen NAACP Annual Freedom Fund Luncheon - 2022
DESCRIPTION:Bergen County NAACP Freedom Fund 2022
URL:https://bergennaacp.org/event/bergen-naacp-annual-freedom-fund-luncheon-2022/
LOCATION:The Terrace\, 293 Paramus Road\, Paramus\, NJ\, 07652\, United States
CATEGORIES:Free Events
ATTACH;FMTTYPE=image/png:https://bergennaacp.org/wp-content/uploads/2022/10/Screen-Shot-2022-10-11-at-3.18.49-PM.png
END:VEVENT
BEGIN:VEVENT
DTSTART;TZID=UTC:20221029T080000
DTEND;TZID=UTC:20221029T133000
DTSTAMP:20260423T172532
CREATED:20221011T001905Z
LAST-MODIFIED:20221011T194501Z
UID:10000001-1667030400-1667050200@bergennaacp.org
SUMMARY:Free Breast Cancer Screening
DESCRIPTION:Breast Cancer Screening
URL:https://bergennaacp.org/event/free-breast-cancer-screening/
LOCATION:Venue Name\, Venue Address\, City\, NJ\, 07631\, United States
ATTACH;FMTTYPE=image/jpeg:https://bergennaacp.org/wp-content/uploads/2022/10/Breast-Cancer-Screening-1.jpeg
END:VEVENT
END:VCALENDAR