BEGIN:VCALENDAR
VERSION:2.0
PRODID:-//Bergen County NAACP - ECPv6.15.20//NONSGML v1.0//EN
CALSCALE:GREGORIAN
METHOD:PUBLISH
X-ORIGINAL-URL:https://bergennaacp.org
X-WR-CALDESC:Events for Bergen County NAACP
REFRESH-INTERVAL;VALUE=DURATION:PT1H
X-Robots-Tag:noindex
X-PUBLISHED-TTL:PT1H
BEGIN:VTIMEZONE
TZID:UTC
BEGIN:STANDARD
TZOFFSETFROM:+0000
TZOFFSETTO:+0000
TZNAME:UTC
DTSTART:20240101T000000
END:STANDARD
END:VTIMEZONE
BEGIN:VEVENT
DTSTART;TZID=UTC:20250831T130000
DTEND;TZID=UTC:20250831T160000
DTSTAMP:20260423T195342
CREATED:20250822T155808Z
LAST-MODIFIED:20250822T155808Z
UID:10000034-1756645200-1756656000@bergennaacp.org
SUMMARY:Back 2 School Supply Giveaway!
DESCRIPTION: Back 2 School Supply Giveaway!\n\nCome out for an exciting afternoon of music\, food\, and family fun as we gear up for a great school year!\n Free school supplies\, games\, fellowship\, and more!\n Sunday\, August 31st | 1PM – 4PM\n Hosted by New Hope Baptist Church & NAACP Bergen County Branch\nChildren must be present to receive supplies — see you there! 
URL:https://bergennaacp.org/event/back-2-school-supply-giveaway/
LOCATION:New Hope Baptist Church\, 214 Berdan Place\, Hackensack\, New Jersey\, 07601
ATTACH;FMTTYPE=image/jpeg:https://bergennaacp.org/wp-content/uploads/2025/08/IMG_6642-1.jpeg
END:VEVENT
END:VCALENDAR